0.5866002251889793
0.000000
0.000000
-0.5866002251889794
601829.9082770921500000
4213431.9666568097000000
