0.200000
0.000000
0.000000
-0.200000
597957.501000
4211816.901000
