<?xml version="1.0" encoding="UTF-8"?>
<metadata xml:lang="en">
	<idinfo>
		<citation>
			<citeinfo>
				<origin>Hammon, Jensen &amp; Wallen; Wetlands &amp; Water Resources (Stuart Siegel, Jake Schweitzer).  IRWM Pilot Project funded by CBDA Science Program</origin>
				<pubdate>Aug. 19, 2004</pubdate>
				<title Sync="TRUE">BrI_Ortho-mosaic_1067_081904_1200-10x.sid</title>
				<geoform Sync="TRUE">remote-sensing image</geoform>
				<serinfo>
					<sername>IRWM Pilot Project, funded by CBDA Science Program</sername>
					<issue>1067</issue>
				</serinfo>
				<pubinfo>
					<pubplace>San Rafael, CA</pubplace>
					<publish>WWR</publish>
				</pubinfo>
				<othercit>See http://www.swampthing.org or http://www.irwm.org for addtional information</othercit>
				<onlink Sync="TRUE">\\VIVA\GIS\Projects\IRWM\Images\HJW\BrI\Year_2004\BrI_Ortho-mosaic_1067_081904_1200-10x.sid</onlink>
				<ftname Sync="TRUE">BrI_Ortho-mosaic_1067_081904_1200-10x.sid</ftname></citeinfo>
		</citation>
		<descript>
			<abstract>2004 Brown's Island mosaiced aerial photographs (from 2 photos), ortho-rectified.  1200dpi, compressed 10x using MrSID software.  0.2 meter (0.67ft) pixel resolution</abstract>
			<purpose>Analyses for IRWM Pilot Project</purpose>
			<langdata Sync="TRUE">en</langdata></descript>
		<timeperd>
			<timeinfo>
				<sngdate>
					<caldate>Aug. 19, 2004</caldate>
				</sngdate>
			</timeinfo>
			<current>ground condition</current>
		</timeperd>
		<status>
			<progress>Complete</progress>
			<update>As needed</update>
		</status>
		<spdom>
			<bounding>
				<westbc>606133.113</westbc>
				<eastbc>601721.113</eastbc>
				<northbc>4213729.035</northbc>
				<southbc>4210257.435</southbc>
			</bounding>
			<lboundng><leftbc Sync="TRUE">597957.401000</leftbc><rightbc Sync="TRUE">601282.401000</rightbc><bottombc Sync="TRUE">4209749.801000</bottombc><topbc Sync="TRUE">4211817.001000</topbc></lboundng></spdom>
		<keywords>
			<theme>
				<themekt>Restoration, Enhancement, Baylands, Marsh, Natural Resources, Ecology</themekt>
				<themekey>Brown's Island CIR Aerial Photograph Mosaic</themekey>
			</theme>
			<place>
				<placekey>San Francisco Bay Delta, Western Delta Region</placekey>
				<placekt>Western Delta Region</placekt></place>
			<stratum>
				<stratkey>Bay Island</stratkey>
			</stratum>
			<temporal>
				<tempkey>Aug. 19, 2004</tempkey>
			</temporal>
		</keywords>
		<accconst>Public Data</accconst>
		<useconst>Credit to Wetlands and Water Resources (WWR) and IRWM Pilot Project, funded by CA Bay Delta Authority (CBDA) Science Program</useconst>
		<ptcontac>
			<cntinfo>
				<cntorgp>
					<cntorg>Wetlands &amp; Water Resources</cntorg>
					<cntper>Stuart W. Siegel</cntper>
				</cntorgp>
				<cntpos>President</cntpos>
				<cntaddr>
					<addrtype>mailing address</addrtype>
					<address>1010 B St, Suite 425</address>
					<city>San Rafael</city>
					<state>CA</state>
					<postal>94901</postal>
					<country>USA</country>
				</cntaddr>
				<cntvoice>(415) 457-0250</cntvoice>
				<cntfax>(415) 457-0260</cntfax>
				<cntemail>stuart@swampthing.org</cntemail>
				<hours>9am-5pm</hours>
				<cntinst>
www.wetlands-and-water-resources.com
    or
www.swampthing.org
</cntinst>
			</cntinfo>
		</ptcontac>
		<datacred>Produced by HJW, rectified and mosaiced by Jake Schweitzer, WWR for IRWM Pilot Project (funded by CA Bay Delta Authority [CBDA])</datacred>
		<secinfo>
			<secsys>Public Domain</secsys>
			<secclass>Unclassified</secclass>
			<sechandl>Must credit Wetlands and Water Resources and IRWM Pilot Project, funded by CA Bay Delta Authority (CBDA) Science Program</sechandl>
		</secinfo>
		<native Sync="TRUE">Microsoft Windows 2000 Version 5.0 (Build 2195) Service Pack 4; ESRI ArcCatalog 8.2.0.700</native>
		<natvform Sync="TRUE">Raster Dataset</natvform></idinfo>
	<dataqual>
		<attracc><attraccr>N/A</attraccr></attracc>
		<logic>Complete as needed</logic>
		<posacc>
			<horizpa>
				<horizpar>Each corner control point is within 1-2 meters of ground control point, which was set using sub-meter GeoXT GPS unit.  For more detailed information, see files in "Rectification Parameters" folder, or contact Wetlands and Water Resources.</horizpar>
				<qhorizpa>
					<horizpae>Ortho-rectified using ENVI software.  Control points based on sub-meter GPS aerial cross surveys</horizpae>
				</qhorizpa>
			</horizpa>
			<vertacc>
				<vertaccr>N/A</vertaccr>
			</vertacc>
		</posacc>
		<lineage>
			<srcinfo>
				<srccite>
					<citeinfo>
						<origin>HJW</origin>
						<pubdate>Aug. 19, 2004</pubdate>
						<serinfo></serinfo>
						<pubinfo></pubinfo>
						<onlink>http://www.hjw.com</onlink>
						<title>HJW</title></citeinfo>
				</srccite>
				<srcscale>9,600 (photo scale)</srcscale>
				<typesrc>Color Infrared Digital Aerial Photo</typesrc>
				<srctime>
					<timeinfo>
						<sngdate><caldate>Aug. 19, 2004</caldate></sngdate></timeinfo>
					<srccurr>ground condition</srccurr>
				</srctime>
				<srccontr>HJW, Jake Schweitzer (WWR)</srccontr>
			</srcinfo>
			<procstep>
				<procdesc>Photos scanned at 1,200 DPI
Ortho-rectified using GPS ground control target points
Mosaiced from 2 individual photos using MrSID
Compressed x10 using MrSID</procdesc>
				<procdate>Oct. 2004</procdate>
				<proccont>
					<cntinfo>
						<cntperp>
							<cntper>Jake Schweitzer</cntper>
							<cntorg>WWR</cntorg>
						</cntperp>
						<cntpos>GIS Specialist</cntpos>
						<cntvoice>(415) 457-0250</cntvoice>
						<cntemail>jake@swampthing.org</cntemail>
						<cntinst>For information on original data, contact Peter Ashley, HJW</cntinst>
						<cntaddr><addrtype>mailing address</addrtype><address>1010 B St., Suite 425</address><city>San Rafael</city><state>CA</state><postal>94901</postal><country>USA</country></cntaddr></cntinfo>
				</proccont>
			</procstep>
			<procstep>
				<procdesc Sync="TRUE">Metadata imported.</procdesc>
				<srcused Sync="TRUE">C:\Temp\xml1FF.tmp</srcused>
				<time Sync="TRUE">15011600</time>
			</procstep>
			<procstep>
				<procdesc Sync="TRUE">Metadata imported.</procdesc>
				<srcused Sync="TRUE">C:\Temp\xml1BD2.tmp</srcused>
				<time Sync="TRUE">19004300</time>
			</procstep>
			<procstep>
				<procdesc Sync="TRUE">Metadata imported.</procdesc>
				<srcused Sync="TRUE">C:\Temp\xml11E2.tmp</srcused>
				<time Sync="TRUE">19065500</time>
			</procstep>
			<procstep>
				<procdesc Sync="TRUE">Metadata imported.</procdesc>
				<srcused Sync="TRUE">C:\Temp\xml6A2.tmp</srcused>
				<time Sync="TRUE">19223400</time>
			</procstep>
			<procstep><procdesc Sync="TRUE">Metadata imported.</procdesc><srcused Sync="TRUE">C:\Temp\xml1484.tmp</srcused><date Sync="TRUE">20031112</date><time Sync="TRUE">20294900</time></procstep><procstep><procdesc Sync="TRUE">Metadata imported.</procdesc><srcused Sync="TRUE">C:\GIS\Projects\IRWM\Images\HJW\SL\SL_Ortho-Mosaic_1067_102403_1200-10x.sid.xml</srcused><date Sync="TRUE">20040209</date><time Sync="TRUE">17274000</time></procstep><procstep><procdesc Sync="TRUE">Metadata imported.</procdesc><srcused Sync="TRUE">G:\GIS\Projects\IRWM\Images\HJW\BrI\BrI_Ortho-Mosaic_1067_092903_1200-10x.sid.xml</srcused><date Sync="TRUE">20041015</date><time Sync="TRUE">16304400</time></procstep></lineage>
	</dataqual>
	<spdoinfo>
		<direct Sync="TRUE">Raster</direct>
		<ptvctinf>
			<sdtsterm Name="restoration_parcels">
				<sdtstype Sync="TRUE">G-polygon</sdtstype>
				<ptvctcnt Sync="TRUE">94</ptvctcnt>
			</sdtsterm>
			<sdtsterm Name="tic">
				<sdtstype Sync="TRUE">Point</sdtstype>
				<ptvctcnt Sync="TRUE">4</ptvctcnt>
			</sdtsterm>
			<sdtsterm Name="polygon">
				<sdtstype Sync="TRUE">GT-polygon composed of chains</sdtstype>
				<ptvctcnt Sync="TRUE">1</ptvctcnt>
			</sdtsterm>
			<sdtsterm Name="tic">
				<sdtstype Sync="TRUE">Point</sdtstype>
				<ptvctcnt Sync="TRUE">4</ptvctcnt>
			</sdtsterm>
		</ptvctinf>
		<rastinfo><rasttype Sync="TRUE">Pixel</rasttype><rowcount Sync="TRUE">10336</rowcount><colcount Sync="TRUE">16625</colcount><rastxsz Sync="TRUE">0.200000</rastxsz><rastysz Sync="TRUE">0.200000</rastysz><rastbpp Sync="TRUE">8</rastbpp><vrtcount Sync="TRUE">1</vrtcount><rastorig Sync="TRUE">Upper Left</rastorig><rastcmap Sync="TRUE">FALSE</rastcmap><rastcomp Sync="TRUE">Wavelet</rastcomp><rastband Sync="TRUE">3</rastband><rastdtyp Sync="TRUE">pixel codes</rastdtyp><rastplyr Sync="TRUE">TRUE</rastplyr><rastifor Sync="TRUE">MrSID</rastifor></rastinfo></spdoinfo>
	<spref>
		<horizsys>
			<planar>
				<planci>
					<plance Sync="TRUE">row and column</plance>
					<coordrep>
						<absres Sync="TRUE">0.200000</absres>
						<ordres Sync="TRUE">0.200000</ordres>
					</coordrep>
				</planci>
			</planar>
			<geodetic>
				<horizdn>NAD83</horizdn>
				<ellips>Geodetic Reference System 80</ellips>
			</geodetic>
			<cordsysn><projcsn>UTM Zone 10N, Units Meters</projcsn></cordsysn></horizsys>
		<vertdef>
			<altsys></altsys>
		</vertdef>
	</spref>
	<eainfo>
		<detailed Name="Band_1">
			<enttyp>
				<enttypl Sync="TRUE">Band_1</enttypl>
				<enttypt Sync="TRUE">Table</enttypt><enttypc Sync="TRUE">247</enttypc></enttyp>
			<attr>
				<attrdomv>
					<udom Sync="TRUE">Sequential unique whole numbers that are automatically generated.</udom>
				</attrdomv>
				<attrlabl Sync="TRUE">ObjectID</attrlabl><attalias Sync="TRUE">ObjectID</attalias><attrtype Sync="TRUE">OID</attrtype><attwidth Sync="TRUE">4</attwidth><atprecis Sync="TRUE">0</atprecis><attscale Sync="TRUE">0</attscale><attrdef Sync="TRUE">Internal feature number.</attrdef><attrdefs Sync="TRUE">ESRI</attrdefs></attr>
			<attr>
				<attrdomv>
					<udom Sync="TRUE">Whole numbers that are automatically generated.</udom>
				</attrdomv>
				<attrlabl Sync="TRUE">Value</attrlabl><attalias Sync="TRUE">Value</attalias><attrtype Sync="TRUE">Integer</attrtype><attwidth Sync="TRUE">0</attwidth><atprecis Sync="TRUE">0</atprecis><attscale Sync="TRUE">0</attscale></attr>
			<attr>
				<attrdomv>
					<udom Sync="TRUE">Whole numbers that are automatically generated.</udom>
				</attrdomv>
				<attrlabl Sync="TRUE">Count</attrlabl><attalias Sync="TRUE">Count</attalias><attrtype Sync="TRUE">Integer</attrtype><attwidth Sync="TRUE">0</attwidth><atprecis Sync="TRUE">0</atprecis><attscale Sync="TRUE">0</attscale></attr>
			<attr>
				<attrdomv>
					<udom Sync="TRUE">Positive real numbers that are automatically generated.</udom>
				</attrdomv>
			</attr>
			<attr>
				<attrdomv>
					<udom Sync="TRUE">Sequential unique whole numbers that are automatically generated.</udom>
				</attrdomv>
			</attr>
			<attr></attr>
			<attr></attr>
			<attr></attr>
			<attr></attr>
			<attr></attr>
			<attr></attr>
			<attr></attr>
			<attr></attr>
			<attr></attr>
			<attr></attr>
			<attr></attr>
			<attr></attr>
			<attr></attr>
			<attr></attr>
			<attr></attr>
			<attr></attr>
			<attr></attr>
			<attr></attr>
			<attr></attr>
			<attr></attr>
		</detailed>
		<detailed Name="Band_2">
			<enttyp>
				<enttypl Sync="TRUE">Band_2</enttypl>
				<enttypt Sync="TRUE">Table</enttypt><enttypc Sync="TRUE">255</enttypc></enttyp>
			<attr><attrlabl Sync="TRUE">ObjectID</attrlabl><attalias Sync="TRUE">ObjectID</attalias><attrtype Sync="TRUE">OID</attrtype><attwidth Sync="TRUE">4</attwidth><atprecis Sync="TRUE">0</atprecis><attscale Sync="TRUE">0</attscale><attrdef Sync="TRUE">Internal feature number.</attrdef><attrdefs Sync="TRUE">ESRI</attrdefs><attrdomv><udom Sync="TRUE">Sequential unique whole numbers that are automatically generated.</udom></attrdomv></attr><attr><attrlabl Sync="TRUE">Value</attrlabl><attalias Sync="TRUE">Value</attalias><attrtype Sync="TRUE">Integer</attrtype><attwidth Sync="TRUE">0</attwidth><atprecis Sync="TRUE">0</atprecis><attscale Sync="TRUE">0</attscale></attr><attr><attrlabl Sync="TRUE">Count</attrlabl><attalias Sync="TRUE">Count</attalias><attrtype Sync="TRUE">Integer</attrtype><attwidth Sync="TRUE">0</attwidth><atprecis Sync="TRUE">0</atprecis><attscale Sync="TRUE">0</attscale></attr></detailed>
		<detailed Name="Band_3">
			<enttyp>
				<enttypl Sync="TRUE">Band_3</enttypl>
				<enttypt Sync="TRUE">Table</enttypt><enttypc Sync="TRUE">256</enttypc></enttyp>
			<attr>
				<attrlabl Sync="TRUE">ObjectID</attrlabl>
				<attrdef Sync="TRUE">Internal feature number.</attrdef>
				<attrdefs Sync="TRUE">ESRI</attrdefs>
				<attrdomv>
					<udom Sync="TRUE">Sequential unique whole numbers that are automatically generated.</udom>
				</attrdomv>
				<attalias Sync="TRUE">ObjectID</attalias><attrtype Sync="TRUE">OID</attrtype><attwidth Sync="TRUE">4</attwidth><atprecis Sync="TRUE">0</atprecis><attscale Sync="TRUE">0</attscale></attr>
			<attr>
				<attrlabl Sync="TRUE">Value</attrlabl>
				<attalias Sync="TRUE">Value</attalias><attrtype Sync="TRUE">Integer</attrtype><attwidth Sync="TRUE">0</attwidth><atprecis Sync="TRUE">0</atprecis><attscale Sync="TRUE">0</attscale></attr>
			<attr>
				<attrlabl Sync="TRUE">Count</attrlabl>
				<attalias Sync="TRUE">Count</attalias><attrtype Sync="TRUE">Integer</attrtype><attwidth Sync="TRUE">0</attwidth><atprecis Sync="TRUE">0</atprecis><attscale Sync="TRUE">0</attscale></attr>
		</detailed>
		<overview></overview>
	</eainfo>
	<distinfo>
		<distrib>
			<cntinfo>
				<cntorgp>
					<cntorg>San Francisco Estuary Institute</cntorg>
				</cntorgp>
				<cntaddr>
					<addrtype>mailing address</addrtype>
					<address>7770 Pardee Lane, 2nd Flr</address>
					<city>Oakland</city>
					<state>CA</state>
					<postal>94621</postal>
					<country>USA</country>
				</cntaddr>
				<cntvoice>(510) 746-7334</cntvoice>
				<hours>9am to 5pm</hours>
				<cntinst>Visit http://www.irwm.org on the Internet

For additional questions/information, visit http://www.swampthing.org</cntinst>
			</cntinfo>
		</distrib>
		<resdesc>MrSID Image</resdesc>
		<distliab>Must credit WWR and CBDA</distliab>
		<stdorder>
			<digform>
				<digtinfo>
					<formname>MrSID Image</formname>
					<transize Sync="TRUE">49.414</transize>
					<dssize Sync="TRUE">49.414</dssize><formvern>2.0</formvern></digtinfo>
				<digtopt>
					<onlinopt>
						<accinstr>Check availability at www.swampthing.org or www.irwm.org</accinstr>
						<computer><networka><networkr>IRWM Pilot Project</networkr></networka></computer></onlinopt>
					<offoptn>
						<offmedia>Online Tranfer Only</offmedia>
						<compat>Created with Windows Software</compat>
					</offoptn>
				</digtopt>
			</digform>
			<ordering>See information at http://www.swampthing.org or
 http://www.irwm.org</ordering>
		</stdorder>
		<techpreq>Photo digital images are provided at multitude of size/resolution</techpreq><availabl><timeinfo><sngdate><caldate>From Oct. 2004</caldate></sngdate></timeinfo></availabl></distinfo>
	<metainfo>
		<metd Sync="TRUE">20041025</metd>
		<metc>
			<cntinfo>
				<cntorgp>
					<cntorg>Wetlands and Water Resources</cntorg>
					<cntper>Jake H. Schweitzer</cntper>
				</cntorgp>
				<cntpos>GIS Specialist</cntpos>
				<cntaddr>
					<addrtype>mailing address</addrtype>
					<city>San Rafael</city>
					<state>CA</state>
					<postal>94901</postal>
					<address>1010 B St., Suite 425</address><country>USA</country></cntaddr>
				<cntvoice>(415) 457-0250</cntvoice>
				<cntemail>jake@swampthing.org</cntemail>
				<hours>9am - 5pm</hours>
				<cntinst>
www.wetlands-and-water-resources.com
   or
www.swampthing.org
</cntinst>
			</cntinfo>
		</metc>
		<metstdn Sync="TRUE">FGDC Content Standards for Digital Geospatial Metadata</metstdn>
		<metstdv Sync="TRUE">FGDC-STD-001-1998</metstdv>
		<mettc Sync="TRUE">local time</mettc>
		<metac>None</metac>
		<metuc>None</metuc>
		<metsi>
			<metsc>Unclassified</metsc>
			<metshd>Must credit WWR/CBDA</metshd>
		</metsi>
		<langmeta Sync="TRUE">en</langmeta><metextns><onlink Sync="TRUE">http://www.esri.com/metadata/esriprof80.html</onlink><metprof Sync="TRUE">ESRI Metadata Profile</metprof></metextns></metainfo>
	<Esri><CreaDate>20041015</CreaDate><CreaTime>16304400</CreaTime><SyncOnce>FALSE</SyncOnce><SyncDate>20041025</SyncDate><SyncTime>16015000</SyncTime><ModDate>20041025</ModDate><ModTime>16015000</ModTime><MetaID>{935C2F76-26F5-4940-B248-3A0D1D0DE852}</MetaID></Esri><dataIdInfo><envirDesc Sync="TRUE">Microsoft Windows 2000 Version 5.0 (Build 2195) Service Pack 4; ESRI ArcCatalog 8.2.0.700</envirDesc><dataLang><languageCode Sync="TRUE" value="en"></languageCode></dataLang><idCitation><resTitle Sync="TRUE">BrI_Ortho-mosaic_1067_081904_1200-10x.sid</resTitle><presForm><PresFormCd Sync="TRUE" value="005"></PresFormCd></presForm></idCitation><spatRpType><SpatRepTypCd Sync="TRUE" value="002"></SpatRepTypCd></spatRpType><geoBox esriExtentType="native"><westBL Sync="TRUE">597957.401</westBL><eastBL Sync="TRUE">601282.401</eastBL><northBL Sync="TRUE">4211817.001</northBL><southBL Sync="TRUE">4209749.801</southBL><exTypeCode Sync="TRUE">1</exTypeCode></geoBox></dataIdInfo><mdLang><languageCode Sync="TRUE" value="en"></languageCode></mdLang><mdStanName Sync="TRUE">ISO 19115 Geographic Information - Metadata</mdStanName><mdStanVer Sync="TRUE">DIS_ESRI1.0</mdStanVer><mdChar><CharSetCd Sync="TRUE" value="004"></CharSetCd></mdChar><mdHrLv><ScopeCd Sync="TRUE" value="005"></ScopeCd></mdHrLv><mdHrLvName Sync="TRUE">dataset</mdHrLvName><distInfo><distributor><distorTran><onLineSrc><orDesc Sync="TRUE">002</orDesc><linkage Sync="TRUE">file://\\VIVA\GIS\Projects\IRWM\Images\HJW\BrI\Year_2004\BrI_Ortho-mosaic_1067_081904_1200-10x.sid</linkage><protocol Sync="TRUE">Local Area Network</protocol></onLineSrc><transSize Sync="TRUE">49.414</transSize></distorTran><distorFormat><formatName Sync="TRUE">Raster Dataset</formatName></distorFormat></distributor></distInfo><spatRepInfo><GridSpatRep><numDims Sync="TRUE">2</numDims><axDimProps><Dimen><dimName><DimNameTypCd Sync="TRUE" value="002"></DimNameTypCd></dimName><dimSize Sync="TRUE">16625</dimSize><dimResol Sync="TRUE">0.2</dimResol></Dimen><Dimen><dimName><DimNameTypCd Sync="TRUE" value="001"></DimNameTypCd></dimName><dimSize Sync="TRUE">10336</dimSize><dimResol Sync="TRUE">0.2</dimResol></Dimen></axDimProps><cellGeo><CellGeoCd Sync="TRUE" value="002"></CellGeoCd></cellGeo><tranParaAv Sync="TRUE">1</tranParaAv></GridSpatRep></spatRepInfo><mdDateSt Sync="TRUE">20041025</mdDateSt></metadata>
