0.200000
0.000000
0.000000
-0.200000
558250.976000
4229664.945000
