0.200000
0.000000
0.000000
-0.200000
601530.769000
4213780.521000
