0.200000
0.000000
0.000000
-0.200000
599139.508000
4212024.301000
