0.200000
0.000000
0.000000
-0.200000
597843.701000
4211849.724000
