0.200000
0.000000
0.000000
-0.200000
559734.934000
4231861.135000
