0.200000
0.000000
0.000000
-0.200000
558161.214000
4229822.338000
