0.200000
0.000000
0.000000
-0.200000
558147.329000
4228201.745000
