0.200000
0.000000
0.000000
-0.200000
542135.388000
4220422.638000
