0.200000
0.000000
0.000000
-0.200000
559163.792000
4224062.444000
