0.200000
0.000000
0.000000
-0.200000
557854.087000
4224084.981000
