0.200000
0.000000
0.000000
-0.200000
604011.545000
4213893.403000
