0.200000
0.000000
0.000000
-0.200000
602601.528000
4213891.321000
