0.200000
0.000000
0.000000
-0.200000
601437.769000
4213773.049000
