0.200000
0.000000
0.000000
-0.200000
603174.565000
4212513.652000
