0.200000
0.000000
0.000000
-0.200000
601871.938000
4212396.286000
